BEGIN:VCALENDAR
VERSION:2.0
PRODID:-//Bafep Kärnten - ECPv5.16.3.1//NONSGML v1.0//EN
CALSCALE:GREGORIAN
METHOD:PUBLISH
X-WR-CALNAME:Bafep Kärnten
X-ORIGINAL-URL:https://www.bafep-ktn.at
X-WR-CALDESC:Veranstaltungen für Bafep Kärnten
BEGIN:VTIMEZONE
TZID:Europe/Berlin
BEGIN:DAYLIGHT
TZOFFSETFROM:+0100
TZOFFSETTO:+0200
TZNAME:CEST
DTSTART:20240331T010000
END:DAYLIGHT
BEGIN:STANDARD
TZOFFSETFROM:+0200
TZOFFSETTO:+0100
TZNAME:CET
DTSTART:20241027T010000
END:STANDARD
END:VTIMEZONE
BEGIN:VEVENT
DTSTART;VALUE=DATE:20240509
DTEND;VALUE=DATE:20240510
DTSTAMP:20260421T183734
CREATED:20230921T082026Z
LAST-MODIFIED:20230921T082026Z
UID:3586-1715212800-1715299199@www.bafep-ktn.at
SUMMARY:Christi Himmelfahrt
DESCRIPTION:
URL:https://www.bafep-ktn.at/termin/christi-himmelfahrt-2/
END:VEVENT
END:VCALENDAR